<metadata xml:lang="en"><Esri><CreaDate>20170703</CreaDate><CreaTime>14385800</CreaTime><ArcGISFormat>1.0</ArcGISFormat><ArcGISstyle>North American Profile of ISO19115 2003</ArcGISstyle><SyncOnce>FALSE</SyncOnce><DataProperties><itemProps><itemName Sync="TRUE">Combined_70s_aerials</itemName><nativeExtBox><westBL Sync="TRUE">2548004.264604</westBL><eastBL Sync="TRUE">2895606.012689</eastBL><southBL Sync="TRUE">309755.994330</southBL><northBL Sync="TRUE">504242.871103</northBL><exTypeCode Sync="TRUE">1</exTypeCode></nativeExtBox></itemProps><coordRef><type Sync="TRUE">Projected</type><geogcsn Sync="TRUE">GCS_North_American_1983</geogcsn><csUnits Sync="TRUE">Linear Unit: Foot_US (0.304801)</csUnits><projcsn Sync="TRUE">NAD_1983_StatePlane_North_Carolina_FIPS_3200_Feet</projcsn><peXml Sync="TRUE">&lt;ProjectedCoordinateSystem xsi:type='typens:ProjectedCoordinateSystem' xmlns:xsi='http://www.w3.org/2001/XMLSchema-instance' xmlns:xs='http://www.w3.org/2001/XMLSchema' xmlns:typens='http://www.esri.com/schemas/ArcGIS/10.4'&gt;&lt;WKT&gt;PROJCS[&amp;quot;NAD_1983_StatePlane_North_Carolina_FIPS_3200_Feet&amp;quot;,GEOGCS[&amp;quot;GCS_North_American_1983&amp;quot;,DATUM[&amp;quot;D_North_American_1983&amp;quot;,SPHEROID[&amp;quot;GRS_1980&amp;quot;,6378137.0,298.257222101]],PRIMEM[&amp;quot;Greenwich&amp;quot;,0.0],UNIT[&amp;quot;Degree&amp;quot;,0.0174532925199433]],PROJECTION[&amp;quot;Lambert_Conformal_Conic&amp;quot;],PARAMETER[&amp;quot;False_Easting&amp;quot;,2000000.002616666],PARAMETER[&amp;quot;False_Northing&amp;quot;,0.0],PARAMETER[&amp;quot;Central_Meridian&amp;quot;,-79.0],PARAMETER[&amp;quot;Standard_Parallel_1&amp;quot;,34.33333333333334],PARAMETER[&amp;quot;Standard_Parallel_2&amp;quot;,36.16666666666666],PARAMETER[&amp;quot;Latitude_Of_Origin&amp;quot;,33.75],UNIT[&amp;quot;Foot_US&amp;quot;,0.3048006096012192],AUTHORITY[&amp;quot;EPSG&amp;quot;,2264]]&lt;/WKT&gt;&lt;XOrigin&gt;-121841900&lt;/XOrigin&gt;&lt;YOrigin&gt;-93659000&lt;/YOrigin&gt;&lt;XYScale&gt;36365718.124241434&lt;/XYScale&gt;&lt;ZOrigin&gt;-100000&lt;/ZOrigin&gt;&lt;ZScale&gt;10000&lt;/ZScale&gt;&lt;MOrigin&gt;-100000&lt;/MOrigin&gt;&lt;MScale&gt;10000&lt;/MScale&gt;&lt;XYTolerance&gt;0.0032808333333333331&lt;/XYTolerance&gt;&lt;ZTolerance&gt;0.001&lt;/ZTolerance&gt;&lt;MTolerance&gt;0.001&lt;/MTolerance&gt;&lt;HighPrecision&gt;true&lt;/HighPrecision&gt;&lt;WKID&gt;102719&lt;/WKID&gt;&lt;LatestWKID&gt;2264&lt;/LatestWKID&gt;&lt;/ProjectedCoordinateSystem&gt;</peXml></coordRef><RasterProperties><General><PixelDepth Sync="TRUE">8</PixelDepth><HasColormap Sync="TRUE">FALSE</HasColormap><CompressionType Sync="TRUE">None</CompressionType><NumBands Sync="TRUE">1</NumBands><Format Sync="TRUE">AMD</Format><HasPyramids Sync="TRUE">TRUE</HasPyramids><SourceType Sync="TRUE">continuous</SourceType><PixelType Sync="TRUE">unsigned integer</PixelType><NoDataValue Sync="TRUE"/></General><Properties><MaxImageHeight Sync="TRUE">4100</MaxImageHeight><MaxImageWidth Sync="TRUE">15000</MaxImageWidth><MaxRecordCount Sync="TRUE">1000</MaxRecordCount><MaxDownloadImageCount Sync="TRUE">20</MaxDownloadImageCount><MaxDownloadSizeLimit Sync="TRUE">2048</MaxDownloadSizeLimit><MaxMosaicImageCount Sync="TRUE">20</MaxMosaicImageCount><DefaultCompressionQuality Sync="TRUE">75</DefaultCompressionQuality><DefaultCompressionTolerance Sync="TRUE">0.01</DefaultCompressionTolerance><BlendWidth Sync="TRUE">10</BlendWidth><ViewpointSpacingX Sync="TRUE">600</ViewpointSpacingX><ViewpointSpacingY Sync="TRUE">300</ViewpointSpacingY><AllowedItemMetadata Sync="TRUE">Basic</AllowedItemMetadata><DefaultResamplingMethod Sync="TRUE">1</DefaultResamplingMethod><AllowedMosaicMethods Sync="TRUE">ByAttribute,Seamline,NorthWest,Center,LockRaster,Nadir,Viewpoint,None</AllowedMosaicMethods><AllowedCompressions Sync="TRUE">None,JPEG,LZ77,LERC</AllowedCompressions><AllowedMensurationCapabilities Sync="TRUE">NONE</AllowedMensurationCapabilities><AvailableMensurationCapabilities Sync="TRUE">None,Basic,Base-Top Height,Top-Top Shadow Height,Base-Top Shadow Height,3D</AvailableMensurationCapabilities><ClipToBoundary Sync="TRUE">-1</ClipToBoundary><FootprintMayContainNoData Sync="TRUE">-1</FootprintMayContainNoData><CellSizeTolerance Sync="TRUE">0.8</CellSizeTolerance><MinimumPixelContribution Sync="TRUE">1</MinimumPixelContribution><AvailableMosaicMethods Sync="TRUE">NorthWest,Center,LockRaster,ByAttribute,Nadir,Viewpoint,Seamline,None</AvailableMosaicMethods><AvailableCompressionMethods Sync="TRUE">None,JPEG,LZ77,LERC</AvailableCompressionMethods><AvailableItemMetadataLevels Sync="TRUE">None,Basic,Full</AvailableItemMetadataLevels><ConfigKeyword Sync="TRUE"/><BandDefinitionKeyword Sync="TRUE">NONE</BandDefinitionKeyword><AllowedFields Sync="TRUE">Name,MinPS,MaxPS,LowPS,HighPS,Tag,GroupName,ProductName,CenterX,CenterY,ZOrder,Shape_Length,Shape_Area,SOrder,SLevelPS</AllowedFields><LowCellSize Sync="TRUE">0.177767488905983</LowCellSize><HighCellSize Sync="TRUE">702.551915570337</HighCellSize><MaxCellSize Sync="TRUE">7025.51915570337</MaxCellSize><ClipToFootprint Sync="TRUE">0</ClipToFootprint><ApplyColorCorrection Sync="TRUE">0</ApplyColorCorrection><SortField Sync="TRUE">LowPS</SortField><SortAscending Sync="TRUE">-1</SortAscending><MosaicOperator Sync="TRUE">6</MosaicOperator><UseTime Sync="TRUE">0</UseTime><DataType Sync="TRUE">Generic</DataType></Properties><Functions Sync="TRUE"><Function Description="Performs on-the-fly mosaic on a raster catalog." Name="Mosaic Function"/></Functions></RasterProperties></DataProperties><SyncDate>20180629</SyncDate><SyncTime>14463300</SyncTime><ModDate>20211116</ModDate><ModTime>11452500</ModTime><scaleRange><minScale>150000000</minScale><maxScale>5000</maxScale></scaleRange><ArcGISProfile>ItemDescription</ArcGISProfile></Esri><dataIdInfo><envirDesc Sync="FALSE">Esri ArcGIS 10.4.1.5686</envirDesc><dataLang><languageCode Sync="TRUE" value="eng"/><countryCode Sync="TRUE" value="USA"/></dataLang><idCitation><resTitle Sync="FALSE">1970s Aerials</resTitle><presForm><PresFormCd Sync="TRUE" value="005"/></presForm></idCitation><spatRpType><SpatRepTypCd Sync="TRUE" value="002"/></spatRpType><dataExt><geoEle xmlns=""><GeoBndBox esriExtentType="search"><exTypeCode Sync="TRUE">1</exTypeCode><westBL Sync="TRUE">-77.179159</westBL><eastBL Sync="TRUE">-76.005263</eastBL><northBL Sync="TRUE">35.121601</northBL><southBL Sync="TRUE">34.564216</southBL></GeoBndBox></geoEle></dataExt><idPurp>1970s aerial images of Carteret County, North Carolina</idPurp><idAbs>&lt;DIV STYLE="text-align:Left;"&gt;&lt;DIV&gt;&lt;P&gt;&lt;SPAN&gt;These images were compiled by scanning in the original mylars through a large format scanner and georeferencing them using 1970's images and present-day orthophotos where the 1970's imagery was not sufficient. After the images were georeferenced, they were combined into two different mosaic datasets- one for high resolution images and one for low resolution images. The higher resolution images cover only the more developed areas of the county while the lower resolution images cover the entire county. These two mosaic datasets were then combined into one. The spatial reference for this dataset is NAD 1983 State Plane North Carolina FIPS 3200 Feet. The original images had an undefined coordinate system with no accompanying metadata.&lt;/SPAN&gt;&lt;/P&gt;&lt;/DIV&gt;&lt;/DIV&gt;</idAbs><idCredit>Carteret County Tax Department, Carteret County Information Technology Department- GIS Division</idCredit><searchKeys><keyword>aerial photos</keyword></searchKeys><resConst><Consts><useLimit>&lt;DIV STYLE="text-align:Left;"&gt;&lt;DIV&gt;&lt;P&gt;&lt;SPAN&gt;These data are subject to the following terms and conditions:USER’S ACCEPTANCE OF THESE TERMSThe County makes GIS data (hereinafter, “Data”) available without charge as a public service on the express condition that users who view, download, transfer, or otherwise access or use the Data expressly agree to these Terms of Use. If you do not accept these terms, you may not view or otherwise use the Data for any purpose. These restrictions on use of the Data apply to you and to any transferee, vendee, or other end user of yours (collectively, “users”). If you transfer to, or use the Data in connection with, any such end user in a format or context revealing the County as the source of the Data, you agree to inform such user(s), by copy of these Terms of Use or otherwise, that the County does not warrant the Data in any way and makes each of the disclaimers set forth herein.DATA WARRANTY AND ACCURACY DISCLAIMERAll County GIS data is expressly provided “AS IS” and “WITH ALL FAULTS”. The County makes no warranty of any kind, express or implied, concerning this information, including but not limited to any warranties of merchantability or fitness for any particular purpose. The County assumes no responsibility or legal liability concerning the Data’s accuracy, reliability, completeness, timeliness, or usefulness. The Data is not intended to constitute advice nor is it to be used as a substitute for specific advice from a professional. Users should not act (or refrain from acting) based upon information in the Data without independently verifying the information and obtaining any necessary professional advice. Users are solely responsible for ensuring the accuracy, currency, and other qualities of any products derived from or in connection with the County’s Data. The Data is collected from various sources, and may be modified over time without notice to improve spatial and attribute accuracy. The County disclaims responsibility for the spatial accuracy and attribution of GIS features, and makes no warranty concerning same.LIABILITY DISCLAIMERThe County disclaims any responsibility or legal liability to users for damages of any kind, including lost profits, lost savings, or any other incidental or consequential damages relating to the providing of the Data or use of it. The County expressly disclaims any responsibility to defend or indemnify users against claims of others based on users’ copying, distribution, or other use of any of the Data. Users assume the risk of using this Data and shall have no remedy at law or equity against the County in case the Data provided is inaccurate, incomplete, or otherwise defective in any way.NO AUTHORITY TO ACT AS COUNTYUsers are not authorized by the County to combine this Data with other data with the intent or effect of representing a County business function such as, but not limited to, matters relating to land development, permitting, or flood hazard evaluation. When using this Data, a user has no authority to represent its products or services as though user were a County agent or office. Maps or applications using this Data may not include the County logo, or any text or other content suggesting they are a direct product of the County.BOUNDARY DISCLAIMERThe designations employed and the presentation of the material in this Data or on this map do not imply the expression of any opinion whatsoever on the part of the County or contributory organizations and institutes concerning the legal status of any state, city, county or area, or its authorities, or concerning the delimitation of its boundaries.DATA CURRENCYThis Data may be updated at irregular intervals. All users should check for updates regularly and ensure the most current version of the Data is being used.TERMINATION OF DATA AVAILABILITYThe County reserves the right to modify the Data in any way or discontinue providing any or all of the Data at any time without notice, and is not liable for any modification, suspension, or discontinuation of access to the Data. Additionally the County may require the termination of any and all display, distribution, or other use of any or all of the Data for any reason including, without limitation, the violation of any provision of these Terms of Use.&lt;/SPAN&gt;&lt;/P&gt;&lt;/DIV&gt;&lt;/DIV&gt;</useLimit></Consts></resConst></dataIdInfo><mdLang><languageCode Sync="TRUE" value="eng"/><countryCode Sync="TRUE" value="USA"/></mdLang><refSysInfo><RefSystem><refSysID><identCode Sync="TRUE" code="2264"/><idCodeSpace Sync="TRUE">EPSG</idCodeSpace><idVersion Sync="TRUE">6.12(9.0.0)</idVersion></refSysID></RefSystem></refSysInfo><spatRepInfo><Georect><cellGeo><CellGeoCd Sync="TRUE" value="002"/></cellGeo><numDims Sync="TRUE">2</numDims><tranParaAv Sync="TRUE">1</tranParaAv><chkPtAv Sync="TRUE">0</chkPtAv><cornerPts><pos Sync="TRUE">2548004.264604 309755.994330</pos></cornerPts><cornerPts><pos Sync="TRUE">2548004.264604 504242.871103</pos></cornerPts><cornerPts><pos Sync="TRUE">2895606.012689 504242.871103</pos></cornerPts><cornerPts><pos Sync="TRUE">2895606.012689 309755.994330</pos></cornerPts><centerPt><pos Sync="TRUE">2721805.138646 406999.432716</pos></centerPt><axisDimension type="002"><dimSize Sync="TRUE">1955373</dimSize><dimResol><value Sync="TRUE" uom="ftUS">0.177767</value></dimResol></axisDimension><axisDimension type="001"><dimSize Sync="TRUE">1094052</dimSize><dimResol><value Sync="TRUE" uom="ftUS">0.177767</value></dimResol></axisDimension><ptInPixel><PixOrientCd Sync="TRUE" value="001"/></ptInPixel></Georect></spatRepInfo><contInfo><ImgDesc><contentTyp><ContentTypCd Sync="TRUE" value="001"/></contentTyp><covDim><Band><dimDescrp Sync="TRUE">Band_1</dimDescrp><bitsPerVal Sync="TRUE">8</bitsPerVal><valUnit><UOM type="length"/></valUnit></Band></covDim></ImgDesc></contInfo><mdDateSt Sync="TRUE">20211116</mdDateSt><mdHrLv><ScopeCd value="005"/></mdHrLv></metadata>
