View In:
ArcGIS JavaScript
ArcGIS Online Map Viewer
ArcGIS Earth
ArcMap
View Footprint In:
ArcGIS Online Map Viewer
Service Description: These images were compiled by scanning in the original mylars through a large format scanner and georeferencing them using 1980's images and present-day orthophotos where the 1980's imagery was not sufficient. After the images were georeferenced, they were combined into two different mosaic datasets- one for high resolution images and one for low resolution images. The higher resolution images cover only the more developed areas of the county while the lower resolution images cover the entire county. These two mosaic datasets were then combined into one. The spatial reference for this dataset is NAD 1983 State Plane North Carolina FIPS 3200 Feet. The original images had an undefined coordinate system with no accompanying metadata.
Name: Imagery/Combined_80s_aerials
Description: These images were compiled by scanning in the original mylars through a large format scanner and georeferencing them using 1980's images and present-day orthophotos where the 1980's imagery was not sufficient. After the images were georeferenced, they were combined into two different mosaic datasets- one for high resolution images and one for low resolution images. The higher resolution images cover only the more developed areas of the county while the lower resolution images cover the entire county. These two mosaic datasets were then combined into one. The spatial reference for this dataset is NAD 1983 State Plane North Carolina FIPS 3200 Feet. The original images had an undefined coordinate system with no accompanying metadata.
Single Fused Map Cache: false
Extent:
XMin: 2550083.338298863
YMin: 330069.29638984764
XMax: 2840090.190144118
YMax: 500076.923688455
Spatial Reference: 102719
(2264)
Initial Extent:
XMin: 2550083.338298863
YMin: 330069.29638984764
XMax: 2840090.190144118
YMax: 500076.923688455
Spatial Reference: 102719
(2264)
Full Extent:
XMin: 2550083.338298863
YMin: 330069.29638984764
XMax: 2840090.190144118
YMax: 500076.923688455
Spatial Reference: 102719
(2264)
Pixel Size X: 0.24637715359999926
Pixel Size Y: 0.2463771535999991
Band Count: 1
Pixel Type: U8
RasterFunction Infos: {"rasterFunctionInfos": [{
"name": "None",
"description": "",
"help": ""
}]}
Mensuration Capabilities: Basic
Has Histograms: true
Has Colormap: false
Has Multi Dimensions : false
Rendering Rule:
Min Scale: 0
Max Scale: 0
Copyright Text: Carteret County Tax Department, Carteret County Information Technology Department- GIS Division
Service Data Type: esriImageServiceDataTypeGeneric
Min Values: 0
Max Values: 182
Mean Values: 70.40877675495932
Standard Deviation Values: 29.181644495232028
Object ID Field: OBJECTID
Fields:
-
OBJECTID
(
type: esriFieldTypeOID, alias: OBJECTID
)
-
Shape
(
type: esriFieldTypeGeometry, alias: Shape
)
-
Name
(
type: esriFieldTypeString, alias: Name, length: 200
)
-
MinPS
(
type: esriFieldTypeDouble, alias: MinPS
)
-
MaxPS
(
type: esriFieldTypeDouble, alias: MaxPS
)
-
LowPS
(
type: esriFieldTypeDouble, alias: LowPS
)
-
HighPS
(
type: esriFieldTypeDouble, alias: HighPS
)
-
Category
(
type: esriFieldTypeInteger, alias: Category
, Coded Values:
[0: Unknown]
, [1: Primary]
, [2: Overview]
, ...6 more...
)
-
Tag
(
type: esriFieldTypeString, alias: Tag, length: 100
)
-
GroupName
(
type: esriFieldTypeString, alias: GroupName, length: 100
)
-
ProductName
(
type: esriFieldTypeString, alias: ProductName, length: 100
)
-
CenterX
(
type: esriFieldTypeDouble, alias: CenterX
)
-
CenterY
(
type: esriFieldTypeDouble, alias: CenterY
)
-
ZOrder
(
type: esriFieldTypeInteger, alias: ZOrder
)
-
Shape_Length
(
type: esriFieldTypeDouble, alias: Shape_Length
)
-
Shape_Area
(
type: esriFieldTypeDouble, alias: Shape_Area
)
Default Mosaic Method: Northwest
Allowed Mosaic Methods: NorthWest,Center,LockRaster,ByAttribute,Nadir,Viewpoint,Seamline,None
SortField:
SortValue: null
Mosaic Operator: First
Default Compression Quality: 75
Default Resampling Method: Bilinear
Max Record Count: 1000
Max Image Height: 4100
Max Image Width: 15000
Max Download Image Count: 20
Max Mosaic Image Count: 20
Allow Raster Function: true
Allow Copy: null
Allow Analysis: null
Allow Compute TiePoints: false
Supports Statistics: true
Supports Advanced Queries: true
Use StandardizedQueries: true
Raster Type Infos:
Name: Raster Dataset
Description: Supports all ArcGIS Raster Datasets
Help:
Has Raster Attribute Table: false
Edit Fields Info: null
Ownership Based AccessControl For Rasters: null
Child Resources:
Info
Histograms
Key Properties
Legend
Raster Function Infos
Supported Operations:
Export Image
Query
Identify
Measure
Compute Histograms
Compute Statistics Histograms
Get Samples
Compute Class Statistics
Query Boundary
Compute Pixel Location
Validate
Project